BEGIN:VCALENDAR
VERSION:2.0
PRODID:-//Chase Terrace Primary School - ECPv5.2.1.1//NONSGML v1.0//EN
CALSCALE:GREGORIAN
METHOD:PUBLISH
X-WR-CALNAME:Chase Terrace Primary School
X-ORIGINAL-URL:https://www.chaseterrace-primary.staffs.sch.uk
X-WR-CALDESC:Events for Chase Terrace Primary School
BEGIN:VTIMEZONE
TZID:UTC
BEGIN:STANDARD
TZOFFSETFROM:+0000
TZOFFSETTO:+0000
TZNAME:UTC
DTSTART:20240101T000000
END:STANDARD
END:VTIMEZONE
BEGIN:VEVENT
DTSTART;TZID=UTC:20240304T141500
DTEND;TZID=UTC:20240304T151500
DTSTAMP:20260424T095436
CREATED:20230712T182514Z
LAST-MODIFIED:20240209T110327Z
UID:2066-1709561700-1709565300@www.chaseterrace-primary.staffs.sch.uk
SUMMARY:Year 3/4 Mothers' Day Activities
DESCRIPTION:
URL:https://www.chaseterrace-primary.staffs.sch.uk/event/year-3-4-mothers-day-activities/
END:VEVENT
END:VCALENDAR