BEGIN:VCALENDAR
VERSION:2.0
PRODID:-//Chase Terrace Primary School - ECPv5.2.1.1//NONSGML v1.0//EN
CALSCALE:GREGORIAN
METHOD:PUBLISH
X-WR-CALNAME:Chase Terrace Primary School
X-ORIGINAL-URL:https://www.chaseterrace-primary.staffs.sch.uk
X-WR-CALDESC:Events for Chase Terrace Primary School
BEGIN:VTIMEZONE
TZID:UTC
BEGIN:STANDARD
TZOFFSETFROM:+0000
TZOFFSETTO:+0000
TZNAME:UTC
DTSTART:20240101T000000
END:STANDARD
END:VTIMEZONE
BEGIN:VEVENT
DTSTART;TZID=UTC:20240610T080000
DTEND;TZID=UTC:20240610T170000
DTSTAMP:20260424T221701
CREATED:20230712T200322Z
LAST-MODIFIED:20230712T200322Z
UID:2102-1718006400-1718038800@www.chaseterrace-primary.staffs.sch.uk
SUMMARY:Year 3/4 Fathers' Day Activities
DESCRIPTION:
URL:https://www.chaseterrace-primary.staffs.sch.uk/event/year-3-4-fathers-day-activities/
END:VEVENT
END:VCALENDAR