BEGIN:VCALENDAR
VERSION:2.0
PRODID:-//Chase Terrace Primary School - ECPv5.2.1.1//NONSGML v1.0//EN
CALSCALE:GREGORIAN
METHOD:PUBLISH
X-WR-CALNAME:Chase Terrace Primary School
X-ORIGINAL-URL:https://www.chaseterrace-primary.staffs.sch.uk
X-WR-CALDESC:Events for Chase Terrace Primary School
BEGIN:VTIMEZONE
TZID:UTC
BEGIN:STANDARD
TZOFFSETFROM:+0000
TZOFFSETTO:+0000
TZNAME:UTC
DTSTART:20240101T000000
END:STANDARD
END:VTIMEZONE
BEGIN:VEVENT
DTSTART;TZID=UTC:20240308T141000
DTEND;TZID=UTC:20240308T151500
DTSTAMP:20260422T084107
CREATED:20230712T183004Z
LAST-MODIFIED:20240209T105934Z
UID:2076-1709907000-1709910900@www.chaseterrace-primary.staffs.sch.uk
SUMMARY:Year 1/2 Mothers' Day Activities
DESCRIPTION:
URL:https://www.chaseterrace-primary.staffs.sch.uk/event/year-1-2-mothers-day-activities/
END:VEVENT
END:VCALENDAR