BEGIN:VCALENDAR
VERSION:2.0
PRODID:-//Chase Terrace Primary School - ECPv5.2.1.1//NONSGML v1.0//EN
CALSCALE:GREGORIAN
METHOD:PUBLISH
X-WR-CALNAME:Chase Terrace Primary School
X-ORIGINAL-URL:https://www.chaseterrace-primary.staffs.sch.uk
X-WR-CALDESC:Events for Chase Terrace Primary School
BEGIN:VTIMEZONE
TZID:UTC
BEGIN:STANDARD
TZOFFSETFROM:+0000
TZOFFSETTO:+0000
TZNAME:UTC
DTSTART:20240101T000000
END:STANDARD
END:VTIMEZONE
BEGIN:VEVENT
DTSTART;TZID=UTC:20240205T153000
DTEND;TZID=UTC:20240205T173000
DTSTAMP:20260424T200330
CREATED:20230712T181907Z
LAST-MODIFIED:20230712T181907Z
UID:2049-1707147000-1707154200@www.chaseterrace-primary.staffs.sch.uk
SUMMARY:Parent Consultations
DESCRIPTION:
URL:https://www.chaseterrace-primary.staffs.sch.uk/event/parent-consultations-18/
END:VEVENT
END:VCALENDAR