BEGIN:VCALENDAR
VERSION:2.0
PRODID:-//Chase Terrace Primary School - ECPv5.2.1.1//NONSGML v1.0//EN
CALSCALE:GREGORIAN
METHOD:PUBLISH
X-WR-CALNAME:Chase Terrace Primary School
X-ORIGINAL-URL:https://www.chaseterrace-primary.staffs.sch.uk
X-WR-CALDESC:Events for Chase Terrace Primary School
BEGIN:VTIMEZONE
TZID:UTC
BEGIN:STANDARD
TZOFFSETFROM:+0000
TZOFFSETTO:+0000
TZNAME:UTC
DTSTART:20240101T000000
END:STANDARD
END:VTIMEZONE
BEGIN:VEVENT
DTSTART;TZID=UTC:20240212T080000
DTEND;TZID=UTC:20240216T170000
DTSTAMP:20260424T132311
CREATED:20230712T182335Z
LAST-MODIFIED:20230712T182335Z
UID:2062-1707724800-1708102800@www.chaseterrace-primary.staffs.sch.uk
SUMMARY:Half Term
DESCRIPTION:
URL:https://www.chaseterrace-primary.staffs.sch.uk/event/half-term-6/
END:VEVENT
END:VCALENDAR