BEGIN:VCALENDAR
VERSION:2.0
PRODID:-//Chase Terrace Primary School - ECPv5.2.1.1//NONSGML v1.0//EN
CALSCALE:GREGORIAN
METHOD:PUBLISH
X-WR-CALNAME:Chase Terrace Primary School
X-ORIGINAL-URL:https://www.chaseterrace-primary.staffs.sch.uk
X-WR-CALDESC:Events for Chase Terrace Primary School
BEGIN:VTIMEZONE
TZID:UTC
BEGIN:STANDARD
TZOFFSETFROM:+0000
TZOFFSETTO:+0000
TZNAME:UTC
DTSTART:20240101T000000
END:STANDARD
END:VTIMEZONE
BEGIN:VEVENT
DTSTART;VALUE=DATE:20240506
DTEND;VALUE=DATE:20240507
DTSTAMP:20260424T081249
CREATED:20230712T183345Z
LAST-MODIFIED:20230712T183346Z
UID:2086-1714953600-1715039999@www.chaseterrace-primary.staffs.sch.uk
SUMMARY:Bank Holiday - School Closed
DESCRIPTION:
URL:https://www.chaseterrace-primary.staffs.sch.uk/event/bank-holiday-school-closed-4/
END:VEVENT
END:VCALENDAR