BEGIN:VCALENDAR
VERSION:2.0
PRODID:-//Chase Terrace Primary School - ECPv5.2.1.1//NONSGML v1.0//EN
CALSCALE:GREGORIAN
METHOD:PUBLISH
X-WR-CALNAME:Chase Terrace Primary School
X-ORIGINAL-URL:http://www.chaseterrace-primary.staffs.sch.uk
X-WR-CALDESC:Events for Chase Terrace Primary School
BEGIN:VTIMEZONE
TZID:UTC
BEGIN:STANDARD
TZOFFSETFROM:+0000
TZOFFSETTO:+0000
TZNAME:UTC
DTSTART:20250101T000000
END:STANDARD
END:VTIMEZONE
BEGIN:VEVENT
DTSTART;VALUE=DATE:20250606
DTEND;VALUE=DATE:20250607
DTSTAMP:20260422T001856
CREATED:20240715T135842Z
LAST-MODIFIED:20240715T135842Z
UID:2263-1749168000-1749254399@www.chaseterrace-primary.staffs.sch.uk
SUMMARY:INSET DAY
DESCRIPTION:
URL:http://www.chaseterrace-primary.staffs.sch.uk/event/inset-day-27/
END:VEVENT
END:VCALENDAR